BEGIN:VCALENDAR
VERSION:2.0
PRODID:-//Théâtre Info Luxembourg - ECPv4.3.2//NONSGML v1.0//EN
CALSCALE:GREGORIAN
METHOD:PUBLISH
X-WR-CALNAME:Théâtre Info Luxembourg
X-ORIGINAL-URL:http://theatreinfo.lu
X-WR-CALDESC:Events for Théâtre Info Luxembourg
BEGIN:VEVENT
DTSTART;TZID=UTC+1:20170407T200000
DTEND;TZID=UTC+1:20170407T213000
DTSTAMP:20180701T044240
CREATED:20161103T141730Z
LAST-MODIFIED:20161103T142058Z
UID:5983-1491595200-1491600600@theatreinfo.lu
SUMMARY:A BUCKETFUL OF DREAMS(TNL)
DESCRIPTION:\n\nLes 7 & 8 avril à 20H\nLe 9 avril à 17H\nThéâtre National du Luxembourg\n\n \n\nCréation mondiale\n\nA Bucketful of Dreams est un spectacle danse-théâtre qui réunit sur scène 8 jeunes danseuses et danseurs. C’est un chemin parsemé de surprises. Sur scène\, chaque individu a le droit d’exprimer ses rêves\, ses désirs et ses espoirs les plus osés\, les plus fous\, les plus enfouis\, et les plus farfelus\, ceux qui nourrissent l’imaginaire\, que cela peine ou fasse rire.\nEn chacun\, il y a sans doute des faces cachées que nous aimerions dévoiler l’instant d’une inspiration. Le groupe accompagne dans A Bucketful of Dreams chaque individu dans le désir d’atteindre un but\, conscient ou inconscient. S’il chute\, le groupe le rattrape afin qu’il tente un nouveau défi. Nous devenons témoins de ces tentatives qui aboutissent ou qui échouent. Chacun peut se retrouver ou se reconnaître au-delà des clichés ou du spleen des rêves enfouis.\n\nJean-Guillaume Weis a dansé avec de nombreuses compagnies de premier plan\, notamment avec le célèbre Tanztheater Wuppertal de Pina Bausch. Il est le fondateur du Dance Theatre Luxembourg et a déjà réalisé de nombreux projets internationaux. Avec A Bucketful of Dreams Jean-Guillaume Weis présente sa troisème création au Théâtre National du Luxembourg.\nDas Tanztheater A Bucketful of Dreams vereint 8 junge Tänzerinnen und Tänzer auf der Bühne. Dort darf jeder von ihnen seine Träume\, Wünsche und Hoffnungen ausdrücken. Egal ob gewagt\, verrückt\, tief vergraben oder einfach nur schräg – es gibt keine Grenzen. Denn in jedem von uns schlummern verborgene Seiten\, die wir in gewissen Momenten offenbaren möchten – oder auch nicht.\nJean-Guillaume Weis war Tänzer beim Pina Bausch Tanztheater\, der Mark Morris Dance Group\, dem Tanztheater Basel und vielen anderen Ensembles. Er arbeitete mit zahlreichen Komponisten\, Dirigenten\, Schauspielern\, Musikern und Regisseuren auf der ganzen Welt zusammen. Seit 1998 choreographiert und tanzt er zumeist für seine eigene Kompanie Jean-Guillaume Weis Dance Theatre. Darüber hinaus wirkt er in zahlreichen neuen Theaterprojekten als Tänzer\, Choreograph und Schauspieler.\nAssistant mise en scène \nMarion Rothhaar\nChorégraphie \nJean-Guillaume Weis\nCostumes \nTrixi Weis\nScénographie \nTrixi Weis\nLumière\nZeljko Sestak\nAvec\n8 danseurs (distribution en cours)\nUne coproduction \nThéâtre National du Luxembourg\, CAPE - Centre des Arts Pluriels Ettelbruck\, Dance Theatre Luxembourg Avec le soutien de: Trois-CL - Centre de Création Chorégraphique Luxembourgeois\, Fondation Indépendance\, Fonds Culturel National et Danzschoul Welleschten\nLieu de production \nThéâtre National du Luxembourg
URL:http://theatreinfo.lu/event/a-bucketful-of-dreamstnl/2017-04-07/
LOCATION:194\, route de Longwy\, Luxembourg\, 1940\, Luxembourg
GEO:49.6063244;6.1061053
X-APPLE-STRUCTURED-LOCATION;VALUE=URI;X-ADDRESS=194 route de Longwy Luxembourg 1940 Luxembourg;X-APPLE-RADIUS=500;X-TITLE=194\, route de Longwy:geo:6.1061053,49.6063244
CATEGORIES:Danse
ATTACH;FMTTYPE=image/jpeg:http://theatreinfo.lu/wp-content/uploads/2016/11/pics-4-e1478182632516.jpg
END:VEVENT
END:VCALENDAR