BEGIN:VCALENDAR
VERSION:2.0
PRODID:-//Théâtre Info Luxembourg - ECPv4.3.2//NONSGML v1.0//EN
CALSCALE:GREGORIAN
METHOD:PUBLISH
X-WR-CALNAME:Théâtre Info Luxembourg
X-ORIGINAL-URL:http://theatreinfo.lu
X-WR-CALDESC:Events for Théâtre Info Luxembourg
BEGIN:VEVENT
DTSTART;TZID=UTC+1:20180521T200000
DTEND;TZID=UTC+1:20180521T220000
DTSTAMP:20180701T044522
CREATED:20171006T230855Z
LAST-MODIFIED:20171006T231058Z
UID:8572-1526932800-1526940000@theatreinfo.lu
SUMMARY:DER HIMMELBLAUE HERRVon Fanny SorgoKasematten-theater
DESCRIPTION:
URL:http://theatreinfo.lu/event/der-himmelblaue-herrvon-fanny-sorgokasematten-theater/2018-05-21/
LOCATION:14\, rue du Puits\, Luxemburg - Bonnevoie\, 2355\, Luxembourg
GEO:49.5977814;6.1350986
X-APPLE-STRUCTURED-LOCATION;VALUE=URI;X-ADDRESS=14 rue du Puits Luxemburg - Bonnevoie 2355 Luxembourg;X-APPLE-RADIUS=500;X-TITLE=14\, rue du Puits:geo:6.1350986,49.5977814
CATEGORIES:Théâtre
ATTACH;FMTTYPE=image/png:http://theatreinfo.lu/wp-content/uploads/2017/10/KAS-234.png
END:VEVENT
END:VCALENDAR