BEGIN:VCALENDAR
VERSION:2.0
PRODID:-//Théâtre Info Luxembourg - ECPv5.2.1.1//NONSGML v1.0//EN
CALSCALE:GREGORIAN
METHOD:PUBLISH
X-WR-CALNAME:Théâtre Info Luxembourg
X-ORIGINAL-URL:https://theatreinfo.lu
X-WR-CALDESC:évènements pour Théâtre Info Luxembourg
BEGIN:VTIMEZONE
TZID:Europe/Paris
BEGIN:DAYLIGHT
TZOFFSETFROM:+0100
TZOFFSETTO:+0200
TZNAME:CEST
DTSTART:20210328T010000
END:DAYLIGHT
BEGIN:STANDARD
TZOFFSETFROM:+0200
TZOFFSETTO:+0100
TZNAME:CET
DTSTART:20211031T010000
END:STANDARD
END:VTIMEZONE
BEGIN:VEVENT
DTSTART;TZID=Europe/Paris:20210109T200000
DTEND;TZID=Europe/Paris:20210109T220000
DTSTAMP:20201211T051308
CREATED:20200610T053854Z
LAST-MODIFIED:20200610T054014Z
UID:13773-1610222400-1610229600@theatreinfo.lu
SUMMARY:LOUIS CHEDIDCasino 2000
DESCRIPTION:La dernière fois qu’il est monté sur scène c’était pour célébrer une histoire de famille hors du commun aux côtés de ses enfants Anna\, Joseph et Matthieu (-M-)\, lors d’une tournée à guichets fermés. Cela fera plus de 7 ans que Louis Chedid n’aura pas tourné sous son nom. L’occasion d’écouter à nouveau ses mélodies intemporelles qui nous ont accompagnés pendant 40 ans (Ainsi soit-il\, Anne ma sœur Anne\, T’as beau pas être beau\, Bouc bel air\, ainsi que le conte musical “Le soldat rose”). Dans la lignée du magnifique « On ne dit jamais assez aux gens qu’on aime qu’on les aime » (disque d’or)\, il prépare la sortie d’un nouvel album dont les chansons sonnent déjà comme des classiques. Sortie prévue début 2020. Un rendez-vous immanquable! \nCASINO 2OOO présente en collaboration avec Decibels Productions et l’Amourade Louis Chedid.
URL:https://theatreinfo.lu/event/louis-chedidcasino-2000/
LOCATION:Casino 2000\, Rue Flammang\, Mondorf les Bains\, 5618\, Luxembourg
CATEGORIES:Musique
ATTACH;FMTTYPE=image/png:https://theatreinfo.lu/wp-content/uploads/2020/06/Capture-d’écran-2020-06-10-à-08.34.35-1.png
GEO:49.5078241;6.2801403
X-APPLE-STRUCTURED-LOCATION;VALUE=URI;X-ADDRESS=Casino 2000 Rue Flammang Mondorf les Bains 5618 Luxembourg;X-APPLE-RADIUS=500;X-TITLE=Rue Flammang:geo:6.2801403,49.5078241
END:VEVENT
END:VCALENDAR