BEGIN:VCALENDAR
VERSION:2.0
PRODID:-//Théâtre Info Luxembourg - ECPv5.2.1.1//NONSGML v1.0//EN
CALSCALE:GREGORIAN
METHOD:PUBLISH
X-WR-CALNAME:Théâtre Info Luxembourg
X-ORIGINAL-URL:https://theatreinfo.lu
X-WR-CALDESC:évènements pour Théâtre Info Luxembourg
BEGIN:VTIMEZONE
TZID:Europe/Paris
BEGIN:DAYLIGHT
TZOFFSETFROM:+0100
TZOFFSETTO:+0200
TZNAME:CEST
DTSTART:20210328T010000
END:DAYLIGHT
BEGIN:STANDARD
TZOFFSETFROM:+0200
TZOFFSETTO:+0100
TZNAME:CET
DTSTART:20211031T010000
END:STANDARD
END:VTIMEZONE
BEGIN:VEVENT
DTSTART;TZID=Europe/Paris:20210319T200000
DTEND;TZID=Europe/Paris:20210319T213000
DTSTAMP:20201211T051325
CREATED:20191214T171120Z
LAST-MODIFIED:20191214T171120Z
UID:12167-1616184000-1616189400@theatreinfo.lu
SUMMARY:Manon LepommeNon je n'irai pas chez le PsyMontigny-les-Metz
DESCRIPTION:Manon Lepomme est une comédienne belge à la répartie dévastatrice. Son autodérision est sans limite et sa spontanéité déconcertante. \nVous pensez que Manon est excessive ? Non\, elle est juste entière !\nAu lieu d’aller chez le psy\, elle choisit de se raconter sur scène. Elle évoque\, entre autres\, sa lutte contre sa gourmandise maladive\, l’Alzheimer de ses grands-parents et son ancien métier de prof.\nLe tout avec humour\, folie et son petit accent belge ! \nA partir de 14 ans\nTARIFS : 22€ / 20€ – réservations www.marcsan.fr
URL:https://theatreinfo.lu/event/manon-lepommenon-je-nirai-pas-chez-le-psymontigny-les-metz/
LOCATION:Centre Culturel Marc Sangnier\, 8 allée Marguerite\, Montigny-lès-Metz\, 57950\, France
CATEGORIES:France,One Man Show
ATTACH;FMTTYPE=image/jpeg:https://theatreinfo.lu/wp-content/uploads/2019/12/78159213_2587663298014980_2908496890154713088_o-1.jpg
END:VEVENT
END:VCALENDAR